BEGIN:VCALENDAR
VERSION:2.0
PRODID:-//The Lincoln House Inn - ECPv6.15.13//NONSGML v1.0//EN
CALSCALE:GREGORIAN
METHOD:PUBLISH
X-WR-CALNAME:The Lincoln House Inn
X-ORIGINAL-URL:https://thelincolnhouseinn.com
X-WR-CALDESC:Events for The Lincoln House Inn
REFRESH-INTERVAL;VALUE=DURATION:PT1H
X-Robots-Tag:noindex
X-PUBLISHED-TTL:PT1H
BEGIN:VTIMEZONE
TZID:UTC
BEGIN:STANDARD
TZOFFSETFROM:+0000
TZOFFSETTO:+0000
TZNAME:UTC
DTSTART:20240101T000000
END:STANDARD
END:VTIMEZONE
BEGIN:VEVENT
DTSTART;TZID=UTC:20260122T183000
DTEND;TZID=UTC:20260122T200000
DTSTAMP:20260424T053059
CREATED:20250702T193606Z
LAST-MODIFIED:20251016T164306Z
UID:1200-1769106600-1769112000@thelincolnhouseinn.com
SUMMARY:Painting Mandalas (Part 3 of 3 Make & Take)
DESCRIPTION:Thursday\, Jan 22nd\nTime: 6:30-8pm\nClass: Painting Mandalas (Part 3 of 3 Make & Take)\nLimit: 10 \nIn the final session of our mandala painting series\, we’ll put the finishing touches on your 12-inch wooden mandala. Whether you’re adding final details\, fixing any mistakes\, or making those last perfecting touches\, this class is all about bringing your piece to completion. You’ll also have the opportunity to reflect on the positive\, therapeutic effects of the creative process and how it has made you feel. If your piece isn’t quite finished\, you can take home your paint colors in a portable container to complete it at your own pace. Celebrate your progress and leave with a beautiful\, personalized piece of art ready to hang and admire! \nRegister Here
URL:https://thelincolnhouseinn.com/lincolnhouse-events/painting-mandalas-part-3-of-3-make-take/
LOCATION:The Lincoln House Inn\, 325 N Main St\, Bowling Green\, OH\, 43402\, United States
CATEGORIES:The Arts
ATTACH;FMTTYPE=image/webp:https://thelincolnhouseinn.com/wp-content/uploads/2025/07/1000015481.webp
END:VEVENT
BEGIN:VEVENT
DTSTART;TZID=UTC:20260121T183000
DTEND;TZID=UTC:20260121T200000
DTSTAMP:20260424T053059
CREATED:20250702T193507Z
LAST-MODIFIED:20251016T164513Z
UID:1197-1769020200-1769025600@thelincolnhouseinn.com
SUMMARY:Winter Wonderland Watercolor Workshop: Paint a Peaceful Seasonal Scape
DESCRIPTION:Wednesday\, Jan. 21st Time: 6:30-8pm Class: Winter Wonderland Watercolor Workshop: Paint a Peaceful Seasonal Scape (Make & Take) Limit: 12 Cost: $45 Capture the quiet beauty of the season in our Winter Wonderland Watercolor Workshop! In this beginner-friendly class\, you’ll learn how to create a serene 12×16″ winter landscape using the soft\, flowing techniques of watercolor painting. With step-by-step guidance from an experienced instructor\, you’ll explore essential watercolor skills like blending\, layering\, and creating texture to bring snowy scenes\, frosty trees\, and winter skies to life. Choose from a few inspiring reference designs or follow your own creative spark—either way\, you’ll leave with a finished piece that reflects the magic and stillness of winter. Class Includes: \n\nInstruction in basic watercolor techniques\nAll supplies provided: 12×16″ watercolor paper\, paints\, brushes\, and reference images\nPersonal guidance and time to explore your own creative style\nA finished winter landscape painting to take home\n\nDetails: \n\nSkill Level: Beginner to intermediate\nTake Home: One 12×16″ original winter watercolor painting\n\nWhether you’re new to watercolor or looking to relax and create something seasonal\, this workshop is the perfect way to slow down and celebrate winter through art. \nRegister Here
URL:https://thelincolnhouseinn.com/lincolnhouse-events/winter-wonderland-watercolor-workshop-paint-a-peaceful-seasonal-scape/
LOCATION:The Lincoln House Inn\, 325 N Main St\, Bowling Green\, OH\, 43402\, United States
CATEGORIES:The Arts
ATTACH;FMTTYPE=image/jpeg:https://thelincolnhouseinn.com/wp-content/uploads/2025/07/Jan21.jpg
END:VEVENT
BEGIN:VEVENT
DTSTART;TZID=UTC:20260115T183000
DTEND;TZID=UTC:20260115T200000
DTSTAMP:20260424T053059
CREATED:20250702T193347Z
LAST-MODIFIED:20251016T164247Z
UID:1195-1768501800-1768507200@thelincolnhouseinn.com
SUMMARY:Painting Mandalas (Part 2 of 3 Make & Take)
DESCRIPTION:Thursday\, Jan 15th\nTime: 6:30-8pm\nClass: Painting Mandalas (Part 2 of 3 Make & Take)\nLimit: 10 \nContinue your mandala journey with the second session of our series! In this class\, we’ll dive into selecting and painting the perfect background color for your mandala\, creating a vibrant canvas for your design. We’ll also cover the art of mixing colors to achieve the perfect hues and get started on your 12-inch wooden mandala piece\, designed to be a stunning\, hangable work of art. Bring your creativity and watch your mandala come to life! \nRegister Here
URL:https://thelincolnhouseinn.com/lincolnhouse-events/painting-mandalas-part-2-of-3-make-take/
LOCATION:The Lincoln House Inn\, 325 N Main St\, Bowling Green\, OH\, 43402\, United States
CATEGORIES:The Arts
ATTACH;FMTTYPE=image/webp:https://thelincolnhouseinn.com/wp-content/uploads/2025/07/1000015480.webp
END:VEVENT
BEGIN:VEVENT
DTSTART;TZID=UTC:20260114T183000
DTEND;TZID=UTC:20260114T200000
DTSTAMP:20260424T053059
CREATED:20250702T193156Z
LAST-MODIFIED:20251016T164340Z
UID:1192-1768415400-1768420800@thelincolnhouseinn.com
SUMMARY:Embroidery Class: Simple Stitches in a 7-Inch Hoop
DESCRIPTION:Wednesday\, Jan. 14th\nTime: 6:30-8pm\nClass: Embroidery Class: Simple Stitches in a 7-Inch Hoop\n(Make & Take)\nLimit: 10\nCost: $35 \nDiscover the relaxing art of hand embroidery in our Make & Take Embroidery Class\, perfect for beginners and anyone looking to unwind with a creative\, hands-on project. In this cozy\, beginner-friendly workshop\, you’ll learn a variety of simple stitches while creating your own embroidered design in a 7-inch hoop—yours to take home and proudly display! \nWe’ll cover the basics\, including how to transfer a pattern\, thread a needle\, and master foundational stitches like the backstitch\, satin stitch\, and French knot. Choose from a selection of modern\, beginner-friendly patterns and colors to make your piece truly your own. \nClass Includes: \n\nStep-by-step instruction and stitching guidance\nChoice of beginner-friendly design templates\nAll materials provided: embroidery hoop\, fabric\, thread\, needle\, and pattern\nA completed 7-inch hoop embroidery ready to hang or gift\n\n  \nDetails: \n\nSkill Level: Beginner\nTake Home: One finished embroidered hoop + the skills to keep stitching\n\nWhether you’re new to embroidery or just want a relaxing night of making\, this class is the perfect way to get started—one stitch at a time. \nRegister Here
URL:https://thelincolnhouseinn.com/lincolnhouse-events/embroidery-class-simple-stitches-in-a-7-inch-hoop/
LOCATION:OH
CATEGORIES:The Arts
ATTACH;FMTTYPE=image/webp:https://thelincolnhouseinn.com/wp-content/uploads/2025/07/Jan.14.webp
END:VEVENT
BEGIN:VEVENT
DTSTART;TZID=UTC:20260108T183000
DTEND;TZID=UTC:20260108T200000
DTSTAMP:20260424T053059
CREATED:20250702T192806Z
LAST-MODIFIED:20251016T164137Z
UID:1188-1767897000-1767902400@thelincolnhouseinn.com
SUMMARY:Intro to Painting Mandalas (Part 1 of 3 Make & Take)
DESCRIPTION:Thursday\, Jan 8th\nTime: 6:30-8pm\nClass: Intro to Painting Mandalas (Part 1 of 3 Make & Take)\nLimit: 10\nCost: $85 \nUnlock your creativity and find inner peace in the first session of our three-part series on painting mandalas! In this introductory class\, you’ll explore the rich meanings behind mandalas and learn the fundamentals of this beautiful art form. We’ll guide you through choosing a harmonious color palette\, mastering dotting techniques\, and creating intricate brush strokes that bring your mandalas to life. Perfect for beginners and those looking to deepen their practice\, this class sets the foundation for the creative journey ahead. \nRegister Here
URL:https://thelincolnhouseinn.com/lincolnhouse-events/intro-to-painting-mandalas-part-1-of-3-make-take/
LOCATION:The Lincoln House Inn\, 325 N Main St\, Bowling Green\, OH\, 43402\, United States
CATEGORIES:The Arts
ATTACH;FMTTYPE=image/webp:https://thelincolnhouseinn.com/wp-content/uploads/2025/07/1000015479.webp
END:VEVENT
BEGIN:VEVENT
DTSTART;TZID=UTC:20251211T183000
DTEND;TZID=UTC:20251211T200000
DTSTAMP:20260424T053059
CREATED:20250702T191856Z
LAST-MODIFIED:20251016T164017Z
UID:1176-1765477800-1765483200@thelincolnhouseinn.com
SUMMARY:Watercolor Wreath Workshop 
DESCRIPTION:Thursday\, Dec 11th\nTime: 6:30-8pm\nClass: Watercolor Wreath Workshop\n(Make & Take)\nLimit: 12\nCost: $65 \nUnlock your creativity and bring a touch of elegance to your art with our Watercolor Wreath Workshop! In this class\, you’ll start with a practice piece to get comfortable with watercolor techniques and floral elements. Then\, you’ll create a stunning 18″ x 18″ watercolor wreath on large paper\, perfect for framing or gifting just in time for the holidays! We’ll guide you step-by-step through the process\, from choosing your color palette to arranging your design\, ensuring you leave with a beautiful\, personalized piece of art. No prior experience needed—just bring your enthusiasm and get ready to paint! \nRegister Here
URL:https://thelincolnhouseinn.com/lincolnhouse-events/watercolor-wreath-workshop/
LOCATION:The Lincoln House Inn\, 325 N Main St\, Bowling Green\, OH\, 43402\, United States
CATEGORIES:The Arts
ATTACH;FMTTYPE=image/webp:https://thelincolnhouseinn.com/wp-content/uploads/2025/07/Dec-11.webp
END:VEVENT
BEGIN:VEVENT
DTSTART;TZID=UTC:20251210T183000
DTEND;TZID=UTC:20251210T200000
DTSTAMP:20260424T053059
CREATED:20250702T191746Z
LAST-MODIFIED:20251016T163800Z
UID:1173-1765391400-1765396800@thelincolnhouseinn.com
SUMMARY:DIY Christmas Stocking Sewing Class: A Handmade Holiday Keepsake
DESCRIPTION:Wednesday\, Dec. 10th\nTime: 6:30-8pm\nClass: DIY Christmas Stocking Sewing Class: A Handmade Holiday Keepsake\n(Make & Take)\nLimit: 8\nCost: $45 \nAdd a personal touch to your holiday décor with our DIY Christmas Stocking Sewing Class! In this festive workshop\, you’ll learn how to sew your very own custom Christmas stocking using a beautiful mix of new and vintage fabrics\, textured textiles\, and creative embellishments. \nChoose from a variety of patterns\, materials\, and trims—including cozy flannels\, velvets\, lace\, burlap\, and more—to design a stocking that reflects your unique style or matches your holiday theme. Whether you love rustic farmhouse charm\, vintage holiday vibes\, or modern festive flair\, this class is your chance to get creative and crafty. \nRegister Here
URL:https://thelincolnhouseinn.com/lincolnhouse-events/diy-christmas-stocking-sewing-class-a-handmade-holiday-keepsake/
LOCATION:OH
CATEGORIES:The Arts
ATTACH;FMTTYPE=image/jpeg:https://thelincolnhouseinn.com/wp-content/uploads/2025/07/Dec.10.jpg
END:VEVENT
BEGIN:VEVENT
DTSTART;TZID=UTC:20251203T183000
DTEND;TZID=UTC:20251203T200000
DTSTAMP:20260424T053059
CREATED:20250702T191501Z
LAST-MODIFIED:20251016T163726Z
UID:1168-1764786600-1764792000@thelincolnhouseinn.com
SUMMARY:Watercolor Christmas Cards set of six: A Festive DIY Workshop
DESCRIPTION:Wednesday\, Dec. 3rd\nTime: 6:30-8pm\nClass: Watercolor Christmas Cards set of six: A Festive DIY Workshop\n(Make & Take)\nLimit: 12\nCost: $55 \nGet into the holiday spirit with a creative and cozy class where you’ll paint your own set of handmade Christmas cards using watercolors! Whether you’re a beginner or have some painting experience\, this workshop is a fun and relaxing way to explore watercolor techniques while crafting heartfelt cards for loved ones. \nRegister Here
URL:https://thelincolnhouseinn.com/lincolnhouse-events/watercolor-christmas-cards-set-of-six-a-festive-diy-workshop/
LOCATION:The Lincoln House Inn\, 325 N Main St\, Bowling Green\, OH\, 43402\, United States
CATEGORIES:The Arts
ATTACH;FMTTYPE=image/jpeg:https://thelincolnhouseinn.com/wp-content/uploads/2025/07/Dec.3.jpg
END:VEVENT
BEGIN:VEVENT
DTSTART;TZID=UTC:20251112T183000
DTEND;TZID=UTC:20251112T200000
DTSTAMP:20260424T053059
CREATED:20250702T190414Z
LAST-MODIFIED:20251016T163258Z
UID:1155-1762972200-1762977600@thelincolnhouseinn.com
SUMMARY:Make Your Own Apron: Sewing with Vintage Textiles
DESCRIPTION:Wednesday\, Nov 12th\nTime: 6:30-8pm\nClass: Make Your Own Apron: Sewing with Vintage Textiles\n(Make & Take)\nLimit: 8\nCost: $45 \nMake Your Own Apron: Sewing with Vintage Textiles \nJoin us for a hands-on sewing class where you’ll create a one-of-a-kind apron using beautiful vintage textiles! Whether it’s an old tablecloth\, embroidered linen\, or patterned cotton from years past\, you’ll transform cherished fabrics into a functional and stylish piece you can wear with pride. \nRegister Here
URL:https://thelincolnhouseinn.com/lincolnhouse-events/make-your-own-apron-sewing-with-vintage-textiles/
LOCATION:The Lincoln House Inn\, 325 N Main St\, Bowling Green\, OH\, 43402\, United States
CATEGORIES:The Arts
ATTACH;FMTTYPE=image/webp:https://thelincolnhouseinn.com/wp-content/uploads/2025/07/nov.12.webp
END:VEVENT
BEGIN:VEVENT
DTSTART;TZID=UTC:20251106T183000
DTEND;TZID=UTC:20251106T200000
DTSTAMP:20260424T053059
CREATED:20250702T190100Z
LAST-MODIFIED:20251016T163219Z
UID:1151-1762453800-1762459200@thelincolnhouseinn.com
SUMMARY:Framed Autumn Elegance: Pressed Leaf Art Workshop
DESCRIPTION:Thursday\, Nov 6th\nTime: 6:30-8pm\nClass: Framed Autumn Elegance: Pressed Leaf Art Workshop\n(Make & Take)\nLimit: 12\nCost: $65 \nJoin us for a cozy\, creative afternoon as we capture the beauty of fall! In this hands-on workshop\, you’ll learn the art of pressing vibrant autumn leaves and framing them in elegant gold hanging frames with clear glass. You’ll leave with three beautiful\, nature-inspired pieces perfect for decorating your home or gifting to loved ones. Whether you’re a seasoned crafter or a beginner\, this class will help you embrace the season’s charm and create something truly special. \nRegister Here
URL:https://thelincolnhouseinn.com/lincolnhouse-events/framed-autumn-elegance-pressed-leaf-art-workshop/
LOCATION:The Lincoln House Inn\, 325 N Main St\, Bowling Green\, OH\, 43402\, United States
CATEGORIES:The Arts
ATTACH;FMTTYPE=image/webp:https://thelincolnhouseinn.com/wp-content/uploads/2025/07/Nov-6.webp
END:VEVENT
BEGIN:VEVENT
DTSTART;TZID=UTC:20251105T183000
DTEND;TZID=UTC:20251105T200000
DTSTAMP:20260424T053059
CREATED:20250702T182459Z
LAST-MODIFIED:20251016T163031Z
UID:1143-1762367400-1762372800@thelincolnhouseinn.com
SUMMARY:Winter Wonderland Door Wreath Crafting Class
DESCRIPTION:Wednesday\, Nov 5th\nTime: 6:30-8pm\nClass: Winter Wonderland Door Wreath Crafting Class\n(Make & Take)\nLimit: 12\nCost: $65 \nStep into a world of festive creativity with our Winter Wonderland Door Wreath Crafting Class! In this hands-on workshop\, you’ll design and build a charming winter-themed wreath perfect for adding seasonal cheer to your front door or home décor. \nUsing a rustic wooden wreath base and a curated selection of high-quality artificial greenery\, frosted pinecones\, berries\, and winter accents\, you’ll learn how to layer\, arrange\, and secure your materials to create a beautiful\, long-lasting wreath. Whether you love a classic winter white palette or want to add a pop of color with icy blues or rich reds\, you’ll have the freedom to customize your design to match your unique style. \nRegister Here
URL:https://thelincolnhouseinn.com/lincolnhouse-events/winter-wonderland-door-wreath-crafting-class/
LOCATION:The Lincoln House Inn\, 325 N Main St\, Bowling Green\, OH\, 43402\, United States
CATEGORIES:The Arts
ATTACH;FMTTYPE=image/jpeg:https://thelincolnhouseinn.com/wp-content/uploads/2025/07/Nov.5thclass.jpg
END:VEVENT
END:VCALENDAR